BEGIN:VCALENDAR
VERSION:2.0
PRODID:-//StreamRadar//Match Calendar//EN
CALSCALE:GREGORIAN
METHOD:PUBLISH
X-WR-CALNAME:Makedonikos Neapolis vs Kampaniakos Chalastra
X-WR-TIMEZONE:America/New_York
BEGIN:VEVENT
UID:match-5614718@streamradar.soccer
SUMMARY:Makedonikos Neapolis vs Kampaniakos Chalastra
DTSTAMP:20260421T104634Z
DTSTART;TZID=America/New_York:20260418T080000
DTEND;TZID=America/New_York:20260418T100000
LOCATION:Gipedo Neas Efkarpias Makedonikou (Thessaloníki)
DESCRIPTION:Gde gledati Makedonikos Neapolis protiv Kampaniakos Chalastra u
  takmičenju Grčka - Superliga 2 Grčka. Prenos uživo i TV program.\nhttp
 s://streamradar.soccer/sr/match/5614718/makedonikos-neapolis-vs-kampaniakos
 -chalastra/
URL;VALUE=URI:https://streamradar.soccer/sr/match/5614718/makedonikos-neapo
 lis-vs-kampaniakos-chalastra/
STATUS:CONFIRMED
END:VEVENT
END:VCALENDAR
