BEGIN:VCALENDAR
VERSION:2.0
PRODID:-//StreamRadar//Match Calendar//EN
CALSCALE:GREGORIAN
METHOD:PUBLISH
X-WR-CALNAME:San Juan vs SF Glens
X-WR-TIMEZONE:America/New_York
BEGIN:VEVENT
UID:match-5614693@streamradar.soccer
SUMMARY:San Juan vs SF Glens
DTSTAMP:20260421T104322Z
DTSTART;TZID=America/New_York:20260513T220000
DTEND;TZID=America/New_York:20260514T000000
DESCRIPTION:Gde gledati San Juan protiv SF Glens u takmičenju USL League T
 wo. Prenos uživo i TV program.\nhttps://streamradar.soccer/sr/match/561469
 3/san-juan-vs-sf-glens/
URL;VALUE=URI:https://streamradar.soccer/sr/match/5614693/san-juan-vs-sf-gl
 ens/
STATUS:CONFIRMED
END:VEVENT
END:VCALENDAR
