BEGIN:VCALENDAR
VERSION:2.0
PRODID:-//StreamRadar//Match Calendar//EN
CALSCALE:GREGORIAN
METHOD:PUBLISH
X-WR-CALNAME:Netherlands U23 vs Norway U23
X-WR-TIMEZONE:America/New_York
BEGIN:VEVENT
UID:match-5614669@streamradar.soccer
SUMMARY:Netherlands U23 vs Norway U23
DTSTAMP:20260421T104251Z
DTSTART;TZID=America/New_York:20260417T070000
DTEND;TZID=America/New_York:20260417T090000
DESCRIPTION:Gde gledati Netherlands U23 protiv Norway U23 u takmičenju Me
 unarodna ženska prijateljska utakmica. Prenos uživo i TV program.\nhttps
 ://streamradar.soccer/sr/match/5614669/netherlands-u23-vs-norway-u23/
URL;VALUE=URI:https://streamradar.soccer/sr/match/5614669/netherlands-u23-v
 s-norway-u23/
STATUS:CONFIRMED
END:VEVENT
END:VCALENDAR
