BEGIN:VCALENDAR
VERSION:2.0
PRODID:-//StreamRadar//Match Calendar//EN
CALSCALE:GREGORIAN
METHOD:PUBLISH
X-WR-CALNAME:Slovakia U19 vs San Marino U19
X-WR-TIMEZONE:America/New_York
BEGIN:VEVENT
UID:match-5614643@streamradar.soccer
SUMMARY:Slovakia U19 vs San Marino U19
DTSTAMP:20260421T085500Z
DTSTART;TZID=America/New_York:20260515T090000
DTEND;TZID=America/New_York:20260515T110000
DESCRIPTION:Gde gledati Slovakia U19 protiv San Marino U19 u takmičenju Kv
 alifikacije za Evropsko prvenstvo za igrače do 19 godina. Prenos uživo i 
 TV program.\nhttps://streamradar.soccer/sr/match/5614643/slovakia-u19-vs-sa
 n-marino-u19/
URL;VALUE=URI:https://streamradar.soccer/sr/match/5614643/slovakia-u19-vs-s
 an-marino-u19/
STATUS:CONFIRMED
END:VEVENT
END:VCALENDAR
