BEGIN:VCALENDAR
VERSION:2.0
PRODID:-//StreamRadar//Match Calendar//EN
CALSCALE:GREGORIAN
METHOD:PUBLISH
X-WR-CALNAME:Comerciantes vs Estudiantil CNI
X-WR-TIMEZONE:America/New_York
BEGIN:VEVENT
UID:match-5614635@streamradar.soccer
SUMMARY:Comerciantes vs Estudiantil CNI
DTSTAMP:20260421T093021Z
DTSTART;TZID=America/New_York:20260503T161500
DTEND;TZID=America/New_York:20260503T181500
DESCRIPTION:Gde gledati Comerciantes protiv Estudiantil CNI u takmičenju P
 eru - Segunda División Peru. Prenos uživo i TV program.\nhttps://streamra
 dar.soccer/sr/match/5614635/comerciantes-vs-estudiantil-cni/
URL;VALUE=URI:https://streamradar.soccer/sr/match/5614635/comerciantes-vs-e
 studiantil-cni/
STATUS:CONFIRMED
END:VEVENT
END:VCALENDAR
