BEGIN:VCALENDAR
VERSION:2.0
PRODID:-//StreamRadar//Match Calendar//EN
CALSCALE:GREGORIAN
METHOD:PUBLISH
X-WR-CALNAME:Al Ittifaq vs Emirates
X-WR-TIMEZONE:America/New_York
BEGIN:VEVENT
UID:match-5614595@streamradar.soccer
SUMMARY:Al Ittifaq vs Emirates
DTSTAMP:20260421T084122Z
DTSTART;TZID=America/New_York:20260515T100500
DTEND;TZID=America/New_York:20260515T120500
DESCRIPTION:Gde gledati Al Ittifaq protiv Emirates u takmičenju UAE First 
 Division League. Prenos uživo i TV program.\nhttps://streamradar.soccer/sr
 /match/5614595/al-ittifaq-vs-emirates/
URL;VALUE=URI:https://streamradar.soccer/sr/match/5614595/al-ittifaq-vs-emi
 rates/
STATUS:CONFIRMED
END:VEVENT
END:VCALENDAR
