BEGIN:VCALENDAR
VERSION:2.0
PRODID:-//StreamRadar//Match Calendar//EN
CALSCALE:GREGORIAN
METHOD:PUBLISH
X-WR-CALNAME:Mouna vs SOA
X-WR-TIMEZONE:America/New_York
BEGIN:VEVENT
UID:match-5614583@streamradar.soccer
SUMMARY:Mouna vs SOA
DTSTAMP:20260421T050249Z
DTSTART;TZID=America/New_York:20260421T120000
DTEND;TZID=America/New_York:20260421T140000
DESCRIPTION:Gde gledati Mouna protiv SOA u takmičenju Côte d'Ivoire Premi
 er Division. Prenos uživo i TV program.\nhttps://streamradar.soccer/sr/mat
 ch/5614583/mouna-vs-soa/
URL;VALUE=URI:https://streamradar.soccer/sr/match/5614583/mouna-vs-soa/
STATUS:CONFIRMED
END:VEVENT
END:VCALENDAR
