BEGIN:VCALENDAR
VERSION:2.0
PRODID:-//StreamRadar//Match Calendar//EN
CALSCALE:GREGORIAN
METHOD:PUBLISH
X-WR-CALNAME:Tchologo vs ISCA
X-WR-TIMEZONE:America/New_York
BEGIN:VEVENT
UID:match-5614579@streamradar.soccer
SUMMARY:Tchologo vs ISCA
DTSTAMP:20260421T091721Z
DTSTART;TZID=America/New_York:20260419T120000
DTEND;TZID=America/New_York:20260419T140000
DESCRIPTION:Gde gledati Tchologo protiv ISCA u takmičenju Côte d'Ivoire P
 remier Division. Prenos uživo i TV program.\nhttps://streamradar.soccer/sr
 /match/5614579/tchologo-vs-isca/
URL;VALUE=URI:https://streamradar.soccer/sr/match/5614579/tchologo-vs-isca/
STATUS:CONFIRMED
END:VEVENT
END:VCALENDAR
