BEGIN:VCALENDAR
VERSION:2.0
PRODID:-//StreamRadar//Match Calendar//EN
CALSCALE:GREGORIAN
METHOD:PUBLISH
X-WR-CALNAME:Maccabi Bnei Raina vs Hapoel Katamon
X-WR-TIMEZONE:America/New_York
BEGIN:VEVENT
UID:match-5614538@streamradar.soccer
SUMMARY:Maccabi Bnei Raina vs Hapoel Katamon
DTSTAMP:20260421T064216Z
DTSTART;TZID=America/New_York:20260429T120000
DTEND;TZID=America/New_York:20260429T140000
LOCATION:Green Stadium
DESCRIPTION:Gde gledati Maccabi Bnei Raina protiv Hapoel Katamon u takmiče
 nju Izrael - Ligat Ha'Al. Prenos uživo i TV program.\nhttps://streamradar.
 soccer/sr/match/5614538/maccabi-bnei-raina-vs-hapoel-katamon/
URL;VALUE=URI:https://streamradar.soccer/sr/match/5614538/maccabi-bnei-rain
 a-vs-hapoel-katamon/
STATUS:CONFIRMED
END:VEVENT
END:VCALENDAR
