BEGIN:VCALENDAR
VERSION:2.0
PRODID:-//StreamRadar//Match Calendar//EN
CALSCALE:GREGORIAN
METHOD:PUBLISH
X-WR-CALNAME:Croydon Kings vs Campbelltown City
X-WR-TIMEZONE:America/New_York
BEGIN:VEVENT
UID:match-5614514@streamradar.soccer
SUMMARY:Croydon Kings vs Campbelltown City
DTSTAMP:20260421T181228Z
DTSTART;TZID=America/New_York:20260725T010000
DTEND;TZID=America/New_York:20260725T030000
LOCATION:Regency Park
DESCRIPTION:Gde gledati Croydon Kings protiv Campbelltown City u takmičenj
 u Australija - NPL SA. Prenos uživo i TV program.\nhttps://streamradar.soc
 cer/sr/match/5614514/croydon-kings-vs-campbelltown-city/
URL;VALUE=URI:https://streamradar.soccer/sr/match/5614514/croydon-kings-vs-
 campbelltown-city/
STATUS:CONFIRMED
END:VEVENT
END:VCALENDAR
