BEGIN:VCALENDAR
VERSION:2.0
PRODID:-//StreamRadar//Match Calendar//EN
CALSCALE:GREGORIAN
METHOD:PUBLISH
X-WR-CALNAME:Bnei Sakhnin vs Maccabi Bnei Raina
X-WR-TIMEZONE:America/New_York
BEGIN:VEVENT
UID:match-5613867@streamradar.soccer
SUMMARY:Bnei Sakhnin vs Maccabi Bnei Raina
DTSTAMP:20260421T102128Z
DTSTART;TZID=America/New_York:20260504T130000
DTEND;TZID=America/New_York:20260504T150000
LOCATION:Doha Stadium
DESCRIPTION:Gde gledati Bnei Sakhnin protiv Maccabi Bnei Raina u takmičenj
 u Izrael - Ligat Ha'Al. Prenos uživo i TV program.\nhttps://streamradar.so
 ccer/sr/match/5613867/bnei-sakhnin-vs-maccabi-bnei-raina/
URL;VALUE=URI:https://streamradar.soccer/sr/match/5613867/bnei-sakhnin-vs-m
 accabi-bnei-raina/
STATUS:CONFIRMED
END:VEVENT
END:VCALENDAR
