BEGIN:VCALENDAR
VERSION:2.0
PRODID:-//StreamRadar//Match Calendar//EN
CALSCALE:GREGORIAN
METHOD:PUBLISH
X-WR-CALNAME:Maccabi Netanya vs Hapoel Katamon
X-WR-TIMEZONE:America/New_York
BEGIN:VEVENT
UID:match-5613866@streamradar.soccer
SUMMARY:Maccabi Netanya vs Hapoel Katamon
DTSTAMP:20260421T084316Z
DTSTART;TZID=America/New_York:20260504T130000
DTEND;TZID=America/New_York:20260504T150000
LOCATION:Netanya Stadium
DESCRIPTION:Gde gledati Maccabi Netanya protiv Hapoel Katamon u takmičenju
  Izrael - Ligat Ha'Al. Prenos uživo i TV program.\nhttps://streamradar.soc
 cer/sr/match/5613866/maccabi-netanya-vs-hapoel-katamon/
URL;VALUE=URI:https://streamradar.soccer/sr/match/5613866/maccabi-netanya-v
 s-hapoel-katamon/
STATUS:CONFIRMED
END:VEVENT
END:VCALENDAR
