BEGIN:VCALENDAR
VERSION:2.0
PRODID:-//StreamRadar//Match Calendar//EN
CALSCALE:GREGORIAN
METHOD:PUBLISH
X-WR-CALNAME:Brønshøj vs FA 2000
X-WR-TIMEZONE:America/New_York
BEGIN:VEVENT
UID:match-5613187@streamradar.soccer
SUMMARY:Brønshøj vs FA 2000
DTSTAMP:20260421T091820Z
DTSTART;TZID=America/New_York:20260508T123000
DTEND;TZID=America/New_York:20260508T143000
LOCATION:Tingbjerg Idraetspark
DESCRIPTION:Gde gledati Brønshøj protiv FA 2000 u takmičenju Danska - Dr
 uga danska liga. Prenos uživo i TV program.\nhttps://streamradar.soccer/sr
 /match/5613187/bronshoj-vs-fa-2000/
URL;VALUE=URI:https://streamradar.soccer/sr/match/5613187/bronshoj-vs-fa-20
 00/
STATUS:CONFIRMED
END:VEVENT
END:VCALENDAR
