BEGIN:VCALENDAR
VERSION:2.0
PRODID:-//StreamRadar//Match Calendar//EN
CALSCALE:GREGORIAN
METHOD:PUBLISH
X-WR-CALNAME:Tuggeranong United vs Canberra
X-WR-TIMEZONE:America/New_York
BEGIN:VEVENT
UID:match-5613128@streamradar.soccer
SUMMARY:Tuggeranong United vs Canberra
DTSTAMP:20260421T104426Z
DTSTART;TZID=America/New_York:20260513T053000
DTEND;TZID=America/New_York:20260513T073000
LOCATION:Kambah Stadium
DESCRIPTION:Gde gledati Tuggeranong United protiv Canberra u takmičenju Au
 stralija - NPL ACT. Prenos uživo i TV program.\nhttps://streamradar.soccer
 /sr/match/5613128/tuggeranong-united-vs-canberra/
URL;VALUE=URI:https://streamradar.soccer/sr/match/5613128/tuggeranong-unite
 d-vs-canberra/
STATUS:CONFIRMED
END:VEVENT
END:VCALENDAR
