BEGIN:VCALENDAR
VERSION:2.0
PRODID:-//StreamRadar//Match Calendar//EN
CALSCALE:GREGORIAN
METHOD:PUBLISH
X-WR-CALNAME:Canberra Olympic vs O'Connor Knights
X-WR-TIMEZONE:America/New_York
BEGIN:VEVENT
UID:match-5613126@streamradar.soccer
SUMMARY:Canberra Olympic vs O'Connor Knights
DTSTAMP:20260421T104237Z
DTSTART;TZID=America/New_York:20260513T053000
DTEND;TZID=America/New_York:20260513T073000
LOCATION:AIS Grass Field
DESCRIPTION:Gde gledati Canberra Olympic protiv O'Connor Knights u takmiče
 nju Australija - NPL ACT. Prenos uživo i TV program.\nhttps://streamradar.
 soccer/sr/match/5613126/canberra-olympic-vs-oconnor-knights/
URL;VALUE=URI:https://streamradar.soccer/sr/match/5613126/canberra-olympic-
 vs-oconnor-knights/
STATUS:CONFIRMED
END:VEVENT
END:VCALENDAR
