BEGIN:VCALENDAR
VERSION:2.0
PRODID:-//StreamRadar//Match Calendar//EN
CALSCALE:GREGORIAN
METHOD:PUBLISH
X-WR-CALNAME:Zacatepec vs FC Santiago
X-WR-TIMEZONE:America/New_York
BEGIN:VEVENT
UID:match-5613103@streamradar.soccer
SUMMARY:Zacatepec vs FC Santiago
DTSTAMP:20260421T122624Z
DTSTART;TZID=America/New_York:20260415T160000
DTEND;TZID=America/New_York:20260415T180000
LOCATION:Estadio Agustín Coruco Díaz (Zacatepec)
DESCRIPTION:Gde gledati Zacatepec protiv FC Santiago u takmičenju Meksiko 
 - Liga Premier Meksiko. Prenos uživo i TV program.\nhttps://streamradar.so
 ccer/sr/match/5613103/zacatepec-vs-fc-santiago/
URL;VALUE=URI:https://streamradar.soccer/sr/match/5613103/zacatepec-vs-fc-s
 antiago/
STATUS:CONFIRMED
END:VEVENT
END:VCALENDAR
