BEGIN:VCALENDAR
VERSION:2.0
PRODID:-//StreamRadar//Match Calendar//EN
CALSCALE:GREGORIAN
METHOD:PUBLISH
X-WR-CALNAME:Tritons Vallarta vs Tapachula
X-WR-TIMEZONE:America/New_York
BEGIN:VEVENT
UID:match-5613101@streamradar.soccer
SUMMARY:Tritons Vallarta vs Tapachula
DTSTAMP:20260421T135858Z
DTSTART;TZID=America/New_York:20260415T160000
DTEND;TZID=America/New_York:20260415T180000
LOCATION:Estadio Unidad Deportiva San José del Valle (San José del Valle)
DESCRIPTION:Gde gledati Tritons Vallarta protiv Tapachula u takmičenju Mek
 siko - Liga Premier Meksiko. Prenos uživo i TV program.\nhttps://streamrad
 ar.soccer/sr/match/5613101/tritons-vallarta-vs-tapachula/
URL;VALUE=URI:https://streamradar.soccer/sr/match/5613101/tritons-vallarta-
 vs-tapachula/
STATUS:CONFIRMED
END:VEVENT
END:VCALENDAR
