BEGIN:VCALENDAR
VERSION:2.0
PRODID:-//StreamRadar//Match Calendar//EN
CALSCALE:GREGORIAN
METHOD:PUBLISH
X-WR-CALNAME:Dodoma Jiji vs Young Africans
X-WR-TIMEZONE:America/New_York
BEGIN:VEVENT
UID:match-5613087@streamradar.soccer
SUMMARY:Dodoma Jiji vs Young Africans
DTSTAMP:20260421T092315Z
DTSTART;TZID=America/New_York:20260513T140000
DTEND;TZID=America/New_York:20260513T160000
LOCATION:Jamhuri Stadium
DESCRIPTION:Gde gledati Dodoma Jiji protiv Young Africans u takmičenju Tan
 zanijska Premijer liga. Prenos uživo i TV program.\nhttps://streamradar.so
 ccer/sr/match/5613087/dodoma-jiji-vs-young-africans/
URL;VALUE=URI:https://streamradar.soccer/sr/match/5613087/dodoma-jiji-vs-yo
 ung-africans/
STATUS:CONFIRMED
END:VEVENT
END:VCALENDAR
