BEGIN:VCALENDAR
VERSION:2.0
PRODID:-//StreamRadar//Match Calendar//EN
CALSCALE:GREGORIAN
METHOD:PUBLISH
X-WR-CALNAME:Duhok vs Gharraf
X-WR-TIMEZONE:America/New_York
BEGIN:VEVENT
UID:match-5613064@streamradar.soccer
SUMMARY:Duhok vs Gharraf
DTSTAMP:20260421T054724Z
DTSTART;TZID=America/New_York:20260423T100000
DTEND;TZID=America/New_York:20260423T120000
LOCATION:Duhok Stadium
DESCRIPTION:Gde gledati Duhok protiv Gharraf u takmičenju Iraqi Premier Le
 ague. Prenos uživo i TV program.\nhttps://streamradar.soccer/sr/match/5613
 064/duhok-vs-gharraf/
URL;VALUE=URI:https://streamradar.soccer/sr/match/5613064/duhok-vs-gharraf/
STATUS:CONFIRMED
END:VEVENT
END:VCALENDAR
