BEGIN:VCALENDAR
VERSION:2.0
PRODID:-//StreamRadar//Match Calendar//EN
CALSCALE:GREGORIAN
METHOD:PUBLISH
X-WR-CALNAME:Samartex vs Basake Holy Stars
X-WR-TIMEZONE:America/New_York
BEGIN:VEVENT
UID:match-5613047@streamradar.soccer
SUMMARY:Samartex vs Basake Holy Stars
DTSTAMP:20260421T092020Z
DTSTART;TZID=America/New_York:20260503T110000
DTEND;TZID=America/New_York:20260503T130000
LOCATION:Samartex Park
DESCRIPTION:Gde gledati Samartex protiv Basake Holy Stars u takmičenju Gan
 a - Gana Premijer liga. Prenos uživo i TV program.\nhttps://streamradar.so
 ccer/sr/match/5613047/samartex-vs-basake-holy-stars/
URL;VALUE=URI:https://streamradar.soccer/sr/match/5613047/samartex-vs-basak
 e-holy-stars/
STATUS:CONFIRMED
END:VEVENT
END:VCALENDAR
