BEGIN:VCALENDAR
VERSION:2.0
PRODID:-//StreamRadar//Match Calendar//EN
CALSCALE:GREGORIAN
METHOD:PUBLISH
X-WR-CALNAME:Berekum Chelsea vs Medeama
X-WR-TIMEZONE:America/New_York
BEGIN:VEVENT
UID:match-5613032@streamradar.soccer
SUMMARY:Berekum Chelsea vs Medeama
DTSTAMP:20260421T055615Z
DTSTART;TZID=America/New_York:20260424T110000
DTEND;TZID=America/New_York:20260424T130000
LOCATION:Golden City Park
DESCRIPTION:Gde gledati Berekum Chelsea protiv Medeama u takmičenju Gana -
  Gana Premijer liga. Prenos uživo i TV program.\nhttps://streamradar.socce
 r/sr/match/5613032/berekum-chelsea-vs-medeama/
URL;VALUE=URI:https://streamradar.soccer/sr/match/5613032/berekum-chelsea-v
 s-medeama/
STATUS:CONFIRMED
END:VEVENT
END:VCALENDAR
