BEGIN:VCALENDAR
VERSION:2.0
PRODID:-//StreamRadar//Match Calendar//EN
CALSCALE:GREGORIAN
METHOD:PUBLISH
X-WR-CALNAME:Urana vs Police
X-WR-TIMEZONE:America/New_York
BEGIN:VEVENT
UID:match-5612994@streamradar.soccer
SUMMARY:Urana vs Police
DTSTAMP:20260421T122615Z
DTSTART;TZID=America/New_York:20260415T110000
DTEND;TZID=America/New_York:20260415T130000
LOCATION:Stade d'Arlit (Akokan)
DESCRIPTION:Gde gledati Urana protiv Police u takmičenju Niger - Super Lig
 ue. Prenos uživo i TV program.\nhttps://streamradar.soccer/sr/match/561299
 4/urana-vs-police/
URL;VALUE=URI:https://streamradar.soccer/sr/match/5612994/urana-vs-police/
STATUS:CONFIRMED
END:VEVENT
END:VCALENDAR
