BEGIN:VCALENDAR
VERSION:2.0
PRODID:-//StreamRadar//Match Calendar//EN
CALSCALE:GREGORIAN
METHOD:PUBLISH
X-WR-CALNAME:HIK vs Roskilde
X-WR-TIMEZONE:America/New_York
BEGIN:VEVENT
UID:match-5612732@streamradar.soccer
SUMMARY:HIK vs Roskilde
DTSTAMP:20260421T071325Z
DTSTART;TZID=America/New_York:20260508T130000
DTEND;TZID=America/New_York:20260508T150000
DESCRIPTION:Gde gledati HIK protiv Roskilde u takmičenju Danska - Danska D
 ruga liga. Prenos uživo i TV program.\nhttps://streamradar.soccer/sr/match
 /5612732/hik-vs-roskilde/
URL;VALUE=URI:https://streamradar.soccer/sr/match/5612732/hik-vs-roskilde/
STATUS:CONFIRMED
END:VEVENT
END:VCALENDAR
