BEGIN:VCALENDAR
VERSION:2.0
PRODID:-//StreamRadar//Match Calendar//EN
CALSCALE:GREGORIAN
METHOD:PUBLISH
X-WR-CALNAME:Thisted vs HIK
X-WR-TIMEZONE:America/New_York
BEGIN:VEVENT
UID:match-5612724@streamradar.soccer
SUMMARY:Thisted vs HIK
DTSTAMP:20260421T091731Z
DTSTART;TZID=America/New_York:20260419T080000
DTEND;TZID=America/New_York:20260419T100000
LOCATION:Sparekassen Thy Arena (Thisted)
DESCRIPTION:Gde gledati Thisted protiv HIK u takmičenju Danska - Danska Dr
 uga liga. Prenos uživo i TV program.\nhttps://streamradar.soccer/sr/match/
 5612724/thisted-vs-hik/
URL;VALUE=URI:https://streamradar.soccer/sr/match/5612724/thisted-vs-hik/
STATUS:CONFIRMED
END:VEVENT
END:VCALENDAR
