BEGIN:VCALENDAR
VERSION:2.0
PRODID:-//StreamRadar//Match Calendar//EN
CALSCALE:GREGORIAN
METHOD:PUBLISH
X-WR-CALNAME:Fremad Amager vs Brabrand
X-WR-TIMEZONE:America/New_York
BEGIN:VEVENT
UID:match-5612721@streamradar.soccer
SUMMARY:Fremad Amager vs Brabrand
DTSTAMP:20260421T062148Z
DTSTART;TZID=America/New_York:20260509T090000
DTEND;TZID=America/New_York:20260509T110000
DESCRIPTION:Gde gledati Fremad Amager protiv Brabrand u takmičenju Danska 
 - Danska Druga liga. Prenos uživo i TV program.\nhttps://streamradar.socce
 r/sr/match/5612721/fremad-amager-vs-brabrand/
URL;VALUE=URI:https://streamradar.soccer/sr/match/5612721/fremad-amager-vs-
 brabrand/
STATUS:CONFIRMED
END:VEVENT
END:VCALENDAR
