BEGIN:VCALENDAR
VERSION:2.0
PRODID:-//StreamRadar//Match Calendar//EN
CALSCALE:GREGORIAN
METHOD:PUBLISH
X-WR-CALNAME:Ishøj vs Skive
X-WR-TIMEZONE:America/New_York
BEGIN:VEVENT
UID:match-5612716@streamradar.soccer
SUMMARY:Ishøj vs Skive
DTSTAMP:20260421T062146Z
DTSTART;TZID=America/New_York:20260502T070000
DTEND;TZID=America/New_York:20260502T090000
DESCRIPTION:Gde gledati Ishøj protiv Skive u takmičenju Danska - Danska D
 ruga liga. Prenos uživo i TV program.\nhttps://streamradar.soccer/sr/match
 /5612716/ishoj-vs-skive/
URL;VALUE=URI:https://streamradar.soccer/sr/match/5612716/ishoj-vs-skive/
STATUS:CONFIRMED
END:VEVENT
END:VCALENDAR
