BEGIN:VCALENDAR
VERSION:2.0
PRODID:-//StreamRadar//Match Calendar//EN
CALSCALE:GREGORIAN
METHOD:PUBLISH
X-WR-CALNAME:VSK Århus vs Brabrand
X-WR-TIMEZONE:America/New_York
BEGIN:VEVENT
UID:match-5612715@streamradar.soccer
SUMMARY:VSK Århus vs Brabrand
DTSTAMP:20260421T054847Z
DTSTART;TZID=America/New_York:20260425T073000
DTEND;TZID=America/New_York:20260425T093000
LOCATION:Vejlby Stadion (Risskov)
DESCRIPTION:Gde gledati VSK Århus protiv Brabrand u takmičenju Danska - D
 anska Druga liga. Prenos uživo i TV program.\nhttps://streamradar.soccer/s
 r/match/5612715/vsk-arhus-vs-brabrand/
URL;VALUE=URI:https://streamradar.soccer/sr/match/5612715/vsk-arhus-vs-brab
 rand/
STATUS:CONFIRMED
END:VEVENT
END:VCALENDAR
