BEGIN:VCALENDAR
VERSION:2.0
PRODID:-//StreamRadar//Match Calendar//EN
CALSCALE:GREGORIAN
METHOD:PUBLISH
X-WR-CALNAME:Niendorfer TSV vs Vorwärts-Wacker 04
X-WR-TIMEZONE:America/New_York
BEGIN:VEVENT
UID:match-5612665@streamradar.soccer
SUMMARY:Niendorfer TSV vs Vorwärts-Wacker 04
DTSTAMP:20260421T092043Z
DTSTART;TZID=America/New_York:20260512T130000
DTEND;TZID=America/New_York:20260512T150000
DESCRIPTION:Gde gledati Niendorfer TSV protiv Vorwärts-Wacker 04 u takmič
 enju Nemačka - Oberliga. Prenos uživo i TV program.\nhttps://streamradar.
 soccer/sr/match/5612665/niendorfer-tsv-vs-vorwarts-wacker-04/
URL;VALUE=URI:https://streamradar.soccer/sr/match/5612665/niendorfer-tsv-vs
 -vorwarts-wacker-04/
STATUS:CONFIRMED
END:VEVENT
END:VCALENDAR
