BEGIN:VCALENDAR
VERSION:2.0
PRODID:-//StreamRadar//Match Calendar//EN
CALSCALE:GREGORIAN
METHOD:PUBLISH
X-WR-CALNAME:Asteras Tripolis vs Panserraikos
X-WR-TIMEZONE:America/New_York
BEGIN:VEVENT
UID:match-5612632@streamradar.soccer
SUMMARY:Asteras Tripolis vs Panserraikos
DTSTAMP:20260421T104216Z
DTSTART;TZID=America/New_York:20260512T120000
DTEND;TZID=America/New_York:20260512T140000
LOCATION:Theodoros Kolokotronis Stadium
DESCRIPTION:Gde gledati Asteras Tripolis protiv Panserraikos u takmičenju 
 Grčka - Superliga Grčke. Prenos uživo i TV program.\nhttps://streamradar
 .soccer/sr/match/5612632/asteras-tripolis-vs-panserraikos/
URL;VALUE=URI:https://streamradar.soccer/sr/match/5612632/asteras-tripolis-
 vs-panserraikos/
STATUS:CONFIRMED
END:VEVENT
END:VCALENDAR
