BEGIN:VCALENDAR
VERSION:2.0
PRODID:-//StreamRadar//Match Calendar//EN
CALSCALE:GREGORIAN
METHOD:PUBLISH
X-WR-CALNAME:Managua vs UNAN Managua
X-WR-TIMEZONE:America/New_York
BEGIN:VEVENT
UID:match-5612252@streamradar.soccer
SUMMARY:Managua vs UNAN Managua
DTSTAMP:20260421T082652Z
DTSTART;TZID=America/New_York:20260418T221500
DTEND;TZID=America/New_York:20260419T001500
LOCATION:Estadio Nacional de Fútbol (UNAN) (Managua)
DESCRIPTION:Gde gledati Managua protiv UNAN Managua u takmičenju Nikaragva
  - Primera División Nikaragve. Prenos uživo i TV program.\nhttps://stream
 radar.soccer/sr/match/5612252/managua-vs-unan-managua/
URL;VALUE=URI:https://streamradar.soccer/sr/match/5612252/managua-vs-unan-m
 anagua/
STATUS:CONFIRMED
END:VEVENT
END:VCALENDAR
