BEGIN:VCALENDAR
VERSION:2.0
PRODID:-//StreamRadar//Match Calendar//EN
CALSCALE:GREGORIAN
METHOD:PUBLISH
X-WR-CALNAME:Volga Ulyanovsk vs Sokol Saratov
X-WR-TIMEZONE:America/New_York
BEGIN:VEVENT
UID:match-5612227@streamradar.soccer
SUMMARY:Volga Ulyanovsk vs Sokol Saratov
DTSTAMP:20260421T093131Z
DTSTART;TZID=America/New_York:20260503T090000
DTEND;TZID=America/New_York:20260503T110000
LOCATION:Trud Stadium
DESCRIPTION:Gde gledati Volga Ulyanovsk protiv Sokol Saratov u takmičenju 
 Rusija - Fudbalska Nacionalna Liga. Prenos uživo i TV program.\nhttps://st
 reamradar.soccer/sr/match/5612227/volga-ulyanovsk-vs-sokol-saratov/
URL;VALUE=URI:https://streamradar.soccer/sr/match/5612227/volga-ulyanovsk-v
 s-sokol-saratov/
STATUS:CONFIRMED
END:VEVENT
END:VCALENDAR
