BEGIN:VCALENDAR
VERSION:2.0
PRODID:-//StreamRadar//Match Calendar//EN
CALSCALE:GREGORIAN
METHOD:PUBLISH
X-WR-CALNAME:Chernomorets vs Rodina Moskva
X-WR-TIMEZONE:America/New_York
BEGIN:VEVENT
UID:match-5612223@streamradar.soccer
SUMMARY:Chernomorets vs Rodina Moskva
DTSTAMP:20260421T080737Z
DTSTART;TZID=America/New_York:20260502T090000
DTEND;TZID=America/New_York:20260502T110000
LOCATION:Centralnyy
DESCRIPTION:Gde gledati Chernomorets protiv Rodina Moskva u takmičenju Rus
 ija - Fudbalska Nacionalna Liga. Prenos uživo i TV program.\nhttps://strea
 mradar.soccer/sr/match/5612223/chernomorets-vs-rodina-moskva/
URL;VALUE=URI:https://streamradar.soccer/sr/match/5612223/chernomorets-vs-r
 odina-moskva/
STATUS:CONFIRMED
END:VEVENT
END:VCALENDAR
