BEGIN:VCALENDAR
VERSION:2.0
PRODID:-//StreamRadar//Match Calendar//EN
CALSCALE:GREGORIAN
METHOD:PUBLISH
X-WR-CALNAME:OFK Beograd vs Čukarički
X-WR-TIMEZONE:America/New_York
BEGIN:VEVENT
UID:match-5612176@streamradar.soccer
SUMMARY:OFK Beograd vs Čukarički
DTSTAMP:20260420T120542Z
DTSTART;TZID=America/New_York:20260422T123000
DTEND;TZID=America/New_York:20260422T143000
LOCATION:Omladinski Stadion
DESCRIPTION:Gde gledati OFK Beograd protiv Čukarički u takmičenju Srbija
  - Superliga Srbije. Prenos uživo i TV program.\nhttps://streamradar.socce
 r/sr/match/5612176/ofk-beograd-vs-cukaricki/
URL;VALUE=URI:https://streamradar.soccer/sr/match/5612176/ofk-beograd-vs-cu
 karicki/
STATUS:CONFIRMED
END:VEVENT
END:VCALENDAR
