BEGIN:VCALENDAR
VERSION:2.0
PRODID:-//StreamRadar//Match Calendar//EN
CALSCALE:GREGORIAN
METHOD:PUBLISH
X-WR-CALNAME:Pobeda vs Dynamo Makhachkala II
X-WR-TIMEZONE:America/New_York
BEGIN:VEVENT
UID:match-5611568@streamradar.soccer
SUMMARY:Pobeda vs Dynamo Makhachkala II
DTSTAMP:20260421T092901Z
DTSTART;TZID=America/New_York:20260510T090000
DTEND;TZID=America/New_York:20260510T110000
DESCRIPTION:Gde gledati Pobeda protiv Dynamo Makhachkala II u takmičenju R
 usija - FNL 2. Prenos uživo i TV program.\nhttps://streamradar.soccer/sr/m
 atch/5611568/pobeda-vs-dynamo-makhachkala-ii/
URL;VALUE=URI:https://streamradar.soccer/sr/match/5611568/pobeda-vs-dynamo-
 makhachkala-ii/
STATUS:CONFIRMED
END:VEVENT
END:VCALENDAR
