BEGIN:VCALENDAR
VERSION:2.0
PRODID:-//StreamRadar//Match Calendar//EN
CALSCALE:GREGORIAN
METHOD:PUBLISH
X-WR-CALNAME:Astrakhan vs Izberbash
X-WR-TIMEZONE:America/New_York
BEGIN:VEVENT
UID:match-5611567@streamradar.soccer
SUMMARY:Astrakhan vs Izberbash
DTSTAMP:20260421T091730Z
DTSTART;TZID=America/New_York:20260510T090000
DTEND;TZID=America/New_York:20260510T110000
DESCRIPTION:Gde gledati Astrakhan protiv Izberbash u takmičenju Rusija - F
 NL 2. Prenos uživo i TV program.\nhttps://streamradar.soccer/sr/match/5611
 567/astrakhan-vs-izberbash/
URL;VALUE=URI:https://streamradar.soccer/sr/match/5611567/astrakhan-vs-izbe
 rbash/
STATUS:CONFIRMED
END:VEVENT
END:VCALENDAR
