BEGIN:VCALENDAR
VERSION:2.0
PRODID:-//StreamRadar//Match Calendar//EN
CALSCALE:GREGORIAN
METHOD:PUBLISH
X-WR-CALNAME:Xuan Thien Phu Tho vs Van Hien
X-WR-TIMEZONE:America/New_York
BEGIN:VEVENT
UID:match-5611509@streamradar.soccer
SUMMARY:Xuan Thien Phu Tho vs Van Hien
DTSTAMP:20260421T092352Z
DTSTART;TZID=America/New_York:20260509T070000
DTEND;TZID=America/New_York:20260509T090000
DESCRIPTION:Gde gledati Xuan Thien Phu Tho protiv Van Hien u takmičenju Vi
 jetnam - V.League 2. Prenos uživo i TV program.\nhttps://streamradar.socce
 r/sr/match/5611509/xuan-thien-phu-tho-vs-van-hien/
URL;VALUE=URI:https://streamradar.soccer/sr/match/5611509/xuan-thien-phu-th
 o-vs-van-hien/
STATUS:CONFIRMED
END:VEVENT
END:VCALENDAR
