BEGIN:VCALENDAR
VERSION:2.0
PRODID:-//StreamRadar//Match Calendar//EN
CALSCALE:GREGORIAN
METHOD:PUBLISH
X-WR-CALNAME:Simba vs Tanzania Prisons
X-WR-TIMEZONE:America/New_York
BEGIN:VEVENT
UID:match-5611488@streamradar.soccer
SUMMARY:Simba vs Tanzania Prisons
DTSTAMP:20260421T084137Z
DTSTART;TZID=America/New_York:20260510T111500
DTEND;TZID=America/New_York:20260510T131500
LOCATION:KMC Stadium
DESCRIPTION:Gde gledati Simba protiv Tanzania Prisons u takmičenju Tanzani
 jska Premijer liga. Prenos uživo i TV program.\nhttps://streamradar.soccer
 /sr/match/5611488/simba-vs-tanzania-prisons/
URL;VALUE=URI:https://streamradar.soccer/sr/match/5611488/simba-vs-tanzania
 -prisons/
STATUS:CONFIRMED
END:VEVENT
END:VCALENDAR
