BEGIN:VCALENDAR
VERSION:2.0
PRODID:-//StreamRadar//Match Calendar//EN
CALSCALE:GREGORIAN
METHOD:PUBLISH
X-WR-CALNAME:Sofapaka vs Mathare United
X-WR-TIMEZONE:America/New_York
BEGIN:VEVENT
UID:match-5611435@streamradar.soccer
SUMMARY:Sofapaka vs Mathare United
DTSTAMP:20260421T035716Z
DTSTART;TZID=America/New_York:20260501T060000
DTEND;TZID=America/New_York:20260501T080000
DESCRIPTION:Gde gledati Sofapaka protiv Mathare United u takmičenju Kenyan
  Premier League. Prenos uživo i TV program.\nhttps://streamradar.soccer/sr
 /match/5611435/sofapaka-vs-mathare-united/
URL;VALUE=URI:https://streamradar.soccer/sr/match/5611435/sofapaka-vs-matha
 re-united/
STATUS:CONFIRMED
END:VEVENT
END:VCALENDAR
