BEGIN:VCALENDAR
VERSION:2.0
PRODID:-//StreamRadar//Match Calendar//EN
CALSCALE:GREGORIAN
METHOD:PUBLISH
X-WR-CALNAME:Păuleşti vs Petrolul 52 II
X-WR-TIMEZONE:America/New_York
BEGIN:VEVENT
UID:match-5610825@streamradar.soccer
SUMMARY:Păuleşti vs Petrolul 52 II
DTSTAMP:20260421T080649Z
DTSTART;TZID=America/New_York:20260509T110000
DTEND;TZID=America/New_York:20260509T130000
DESCRIPTION:Gde gledati Păuleşti protiv Petrolul 52 II u takmičenju Rumu
 nija - Liga III. Prenos uživo i TV program.\nhttps://streamradar.soccer/sr
 /match/5610825/p-ule-ti-vs-petrolul-52-ii/
URL;VALUE=URI:https://streamradar.soccer/sr/match/5610825/p-ule-ti-vs-petro
 lul-52-ii/
STATUS:CONFIRMED
END:VEVENT
END:VCALENDAR
