BEGIN:VCALENDAR
VERSION:2.0
PRODID:-//StreamRadar//Match Calendar//EN
CALSCALE:GREGORIAN
METHOD:PUBLISH
X-WR-CALNAME:Bucovina Rădăuţi vs USV Iaşi
X-WR-TIMEZONE:America/New_York
BEGIN:VEVENT
UID:match-5610823@streamradar.soccer
SUMMARY:Bucovina Rădăuţi vs USV Iaşi
DTSTAMP:20260421T104522Z
DTSTART;TZID=America/New_York:20260509T110000
DTEND;TZID=America/New_York:20260509T130000
DESCRIPTION:Gde gledati Bucovina Rădăuţi protiv USV Iaşi u takmičenju 
 Rumunija - Liga III. Prenos uživo i TV program.\nhttps://streamradar.socce
 r/sr/match/5610823/bucovina-r-d-u-i-vs-usv-ia-i/
URL;VALUE=URI:https://streamradar.soccer/sr/match/5610823/bucovina-r-d-u-i-
 vs-usv-ia-i/
STATUS:CONFIRMED
END:VEVENT
END:VCALENDAR
