BEGIN:VCALENDAR
VERSION:2.0
PRODID:-//StreamRadar//Match Calendar//EN
CALSCALE:GREGORIAN
METHOD:PUBLISH
X-WR-CALNAME:Velo Clube vs Nova Iguaçu
X-WR-TIMEZONE:America/New_York
BEGIN:VEVENT
UID:match-5610744@streamradar.soccer
SUMMARY:Velo Clube vs Nova Iguaçu
DTSTAMP:20260421T062835Z
DTSTART;TZID=America/New_York:20260509T160000
DTEND;TZID=America/New_York:20260509T180000
LOCATION:Estadio Benito Agnelo Castellano
DESCRIPTION:Gde gledati Velo Clube protiv Nova Iguaçu u takmičenju Brazil
  - Serie D. Prenos uživo i TV program.\nhttps://streamradar.soccer/sr/matc
 h/5610744/velo-clube-vs-nova-iguacu/
URL;VALUE=URI:https://streamradar.soccer/sr/match/5610744/velo-clube-vs-nov
 a-iguacu/
STATUS:CONFIRMED
END:VEVENT
END:VCALENDAR
