BEGIN:VCALENDAR
VERSION:2.0
PRODID:-//StreamRadar//Match Calendar//EN
CALSCALE:GREGORIAN
METHOD:PUBLISH
X-WR-CALNAME:Rio Branco ES vs Tombense
X-WR-TIMEZONE:America/New_York
BEGIN:VEVENT
UID:match-5610736@streamradar.soccer
SUMMARY:Rio Branco ES vs Tombense
DTSTAMP:20260421T062312Z
DTSTART;TZID=America/New_York:20260509T160000
DTEND;TZID=America/New_York:20260509T180000
DESCRIPTION:Gde gledati Rio Branco ES protiv Tombense u takmičenju Brazil 
 - Serie D. Prenos uživo i TV program.\nhttps://streamradar.soccer/sr/match
 /5610736/rio-branco-es-vs-tombense/
URL;VALUE=URI:https://streamradar.soccer/sr/match/5610736/rio-branco-es-vs-
 tombense/
STATUS:CONFIRMED
END:VEVENT
END:VCALENDAR
