BEGIN:VCALENDAR
VERSION:2.0
PRODID:-//StreamRadar//Match Calendar//EN
CALSCALE:GREGORIAN
METHOD:PUBLISH
X-WR-CALNAME:Ivinhema vs ABECAT Ouvidorense
X-WR-TIMEZONE:America/New_York
BEGIN:VEVENT
UID:match-5610717@streamradar.soccer
SUMMARY:Ivinhema vs ABECAT Ouvidorense
DTSTAMP:20260421T063155Z
DTSTART;TZID=America/New_York:20260509T160000
DTEND;TZID=America/New_York:20260509T180000
DESCRIPTION:Gde gledati Ivinhema protiv ABECAT Ouvidorense u takmičenju Br
 azil - Serie D. Prenos uživo i TV program.\nhttps://streamradar.soccer/sr/
 match/5610717/ivinhema-vs-abecat-ouvidorense/
URL;VALUE=URI:https://streamradar.soccer/sr/match/5610717/ivinhema-vs-abeca
 t-ouvidorense/
STATUS:CONFIRMED
END:VEVENT
END:VCALENDAR
