BEGIN:VCALENDAR
VERSION:2.0
PRODID:-//StreamRadar//Match Calendar//EN
CALSCALE:GREGORIAN
METHOD:PUBLISH
X-WR-CALNAME:Imperatriz vs Trem
X-WR-TIMEZONE:America/New_York
BEGIN:VEVENT
UID:match-5610715@streamradar.soccer
SUMMARY:Imperatriz vs Trem
DTSTAMP:20260421T062056Z
DTSTART;TZID=America/New_York:20260509T160000
DTEND;TZID=America/New_York:20260509T180000
DESCRIPTION:Gde gledati Imperatriz protiv Trem u takmičenju Brazil - Serie
  D. Prenos uživo i TV program.\nhttps://streamradar.soccer/sr/match/561071
 5/imperatriz-vs-trem/
URL;VALUE=URI:https://streamradar.soccer/sr/match/5610715/imperatriz-vs-tre
 m/
STATUS:CONFIRMED
END:VEVENT
END:VCALENDAR
