BEGIN:VCALENDAR
VERSION:2.0
PRODID:-//StreamRadar//Match Calendar//EN
CALSCALE:GREGORIAN
METHOD:PUBLISH
X-WR-CALNAME:Capital Brasilia vs Mixto
X-WR-TIMEZONE:America/New_York
BEGIN:VEVENT
UID:match-5610703@streamradar.soccer
SUMMARY:Capital Brasilia vs Mixto
DTSTAMP:20260421T092248Z
DTSTART;TZID=America/New_York:20260509T160000
DTEND;TZID=America/New_York:20260509T180000
DESCRIPTION:Gde gledati Capital Brasilia protiv Mixto u takmičenju Brazil 
 - Serie D. Prenos uživo i TV program.\nhttps://streamradar.soccer/sr/match
 /5610703/capital-brasilia-vs-mixto/
URL;VALUE=URI:https://streamradar.soccer/sr/match/5610703/capital-brasilia-
 vs-mixto/
STATUS:CONFIRMED
END:VEVENT
END:VCALENDAR
