BEGIN:VCALENDAR
VERSION:2.0
PRODID:-//StreamRadar//Match Calendar//EN
CALSCALE:GREGORIAN
METHOD:PUBLISH
X-WR-CALNAME:Nantes vs OL Lyonnes
X-WR-TIMEZONE:America/New_York
BEGIN:VEVENT
UID:match-5610682@streamradar.soccer
SUMMARY:Nantes vs OL Lyonnes
DTSTAMP:20260421T050457Z
DTSTART;TZID=America/New_York:20260429T130000
DTEND;TZID=America/New_York:20260429T150000
LOCATION:Stade Marcel Saupin
DESCRIPTION:Gde gledati Nantes protiv OL Lyonnes u takmičenju Francuska - 
 Ligue 1. Prenos uživo i TV program.\nhttps://streamradar.soccer/sr/match/5
 610682/nantes-vs-ol-lyonnes/
URL;VALUE=URI:https://streamradar.soccer/sr/match/5610682/nantes-vs-ol-lyon
 nes/
STATUS:CONFIRMED
END:VEVENT
END:VCALENDAR
