BEGIN:VCALENDAR
VERSION:2.0
PRODID:-//StreamRadar//Match Calendar//EN
CALSCALE:GREGORIAN
METHOD:PUBLISH
X-WR-CALNAME:St. Mirren vs Kilmarnock
X-WR-TIMEZONE:America/New_York
BEGIN:VEVENT
UID:match-5610648@streamradar.soccer
SUMMARY:St. Mirren vs Kilmarnock
DTSTAMP:20260421T062319Z
DTSTART;TZID=America/New_York:20260509T100000
DTEND;TZID=America/New_York:20260509T120000
LOCATION:The SMISA Stadium
DESCRIPTION:Gde gledati St. Mirren protiv Kilmarnock u takmičenju Škotska
  Premijer liga. Prenos uživo i TV program.\nhttps://streamradar.soccer/sr/
 match/5610648/st-mirren-vs-kilmarnock/
URL;VALUE=URI:https://streamradar.soccer/sr/match/5610648/st-mirren-vs-kilm
 arnock/
STATUS:CONFIRMED
END:VEVENT
END:VCALENDAR
