BEGIN:VCALENDAR
VERSION:2.0
PRODID:-//StreamRadar//Match Calendar//EN
CALSCALE:GREGORIAN
METHOD:PUBLISH
X-WR-CALNAME:Canberra Juventus vs Canberra
X-WR-TIMEZONE:America/New_York
BEGIN:VEVENT
UID:match-5610073@streamradar.soccer
SUMMARY:Canberra Juventus vs Canberra
DTSTAMP:20260421T095818Z
DTSTART;TZID=America/New_York:20260508T053000
DTEND;TZID=America/New_York:20260508T073000
LOCATION:Gungahlin Enclosed Oval
DESCRIPTION:Gde gledati Canberra Juventus protiv Canberra u takmičenju Aus
 tralija - NPL ACT. Prenos uživo i TV program.\nhttps://streamradar.soccer/
 sr/match/5610073/canberra-juventus-vs-canberra/
URL;VALUE=URI:https://streamradar.soccer/sr/match/5610073/canberra-juventus
 -vs-canberra/
STATUS:CONFIRMED
END:VEVENT
END:VCALENDAR
