BEGIN:VCALENDAR
VERSION:2.0
PRODID:-//StreamRadar//Match Calendar//EN
CALSCALE:GREGORIAN
METHOD:PUBLISH
X-WR-CALNAME:Extension Gunners vs TAFIC
X-WR-TIMEZONE:America/New_York
BEGIN:VEVENT
UID:match-5610054@streamradar.soccer
SUMMARY:Extension Gunners vs TAFIC
DTSTAMP:20260421T162628Z
DTSTART;TZID=America/New_York:20260411T093000
DTEND;TZID=America/New_York:20260411T113000
LOCATION:Lobatse Stadium (Lobatse)
DESCRIPTION:Gde gledati Extension Gunners protiv TAFIC u takmičenju Bocvan
 a - Premier liga Botsvane. Prenos uživo i TV program.\nhttps://streamradar
 .soccer/sr/match/5610054/extension-gunners-vs-tafic/
URL;VALUE=URI:https://streamradar.soccer/sr/match/5610054/extension-gunners
 -vs-tafic/
STATUS:CONFIRMED
END:VEVENT
END:VCALENDAR
