BEGIN:VCALENDAR
VERSION:2.0
PRODID:-//StreamRadar//Match Calendar//EN
CALSCALE:GREGORIAN
METHOD:PUBLISH
X-WR-CALNAME:Falkirk vs Motherwell
X-WR-TIMEZONE:America/New_York
BEGIN:VEVENT
UID:match-5609398@streamradar.soccer
SUMMARY:Falkirk vs Motherwell
DTSTAMP:20260421T062311Z
DTSTART;TZID=America/New_York:20260502T100000
DTEND;TZID=America/New_York:20260502T120000
LOCATION:Falkirk Stadium
DESCRIPTION:Gde gledati Falkirk protiv Motherwell u takmičenju Škotska Pr
 emijer liga. Prenos uživo i TV program.\nhttps://streamradar.soccer/sr/mat
 ch/5609398/falkirk-vs-motherwell/
URL;VALUE=URI:https://streamradar.soccer/sr/match/5609398/falkirk-vs-mother
 well/
STATUS:CONFIRMED
END:VEVENT
END:VCALENDAR
